BEGIN:VCALENDAR
PRODID:-//vBulletin 6//EN
VERSION:2.0
CALSCALE:GREGORIAN
BEGIN:VEVENT
UID:9aa62e8f-fcb2-40d7-b1a5-5ba6586c117c
DTSTAMP:20260420T034837Z
SUMMARY:2022 P23 Coastal
DESCRIPTION:Good news - the new boat arrived\nBad news - we leave in less t
 han 24 hours for an 8 day vacation&#8230\;..\n\n\n  \nAt least I have time
  to get the ceramic coat and tint done while I am gone\n\nGot to take a qu
 ick set\, what an awesome machine.
URL:https://www.planetnautique.com/vb5/node/652091
DTSTART;VALUE=DATE:20220605
END:VEVENT
END:VCALENDAR
