BEGIN:VCALENDAR
PRODID:-//vBulletin 6//EN
VERSION:2.0
CALSCALE:GREGORIAN
BEGIN:VEVENT
UID:bcda6770-da3f-4659-b759-28c39627b96f
DTSTAMP:20260423T204529Z
SUMMARY:2000 ski nautique fuel issues flooding black smoke
DESCRIPTION:I have a 2000 ski nautique I just bought it and took it out. Th
 e boat starts up fine and idled ok til I got it of the 5mp zone I went to 
 give it throttle and is sputtered and started blowing out black smoke whic
 h was fuel. I finally got it cleared out for about a min going about thirt
 y and it started to bog out and died I tried to restart it and it blew out
  black smoke again and a strong odor of fuel. I had new cap rotor plugs fu
 el filter and fuel pump. I took it to a boat shop he plugged it in and no 
 code checked fuel pressure it was perfect. Changed plugs again it still wo
 uldn’t run. It has a throttle body. He said the only other thing it coul
 d be is the throttle body and the 2 injectors? Could it be anything else t
 hank you guys for taking the time to read this I’m a first time owner so
 rry if I’m not to smart about boats
URL:https://www.planetnautique.com/vb5/node/591745
DTSTART;VALUE=DATE:20190815
DTEND;VALUE=DATE:20190915
LOCATION:Roseville
END:VEVENT
END:VCALENDAR
